BEGIN:VCALENDAR
VERSION:2.0
PRODID:-//hacksw/handcal//NONSGML v1.0//EN
BEGIN:VEVENT
UID:3373@carbolite
ORGANIZER:CN=Carbolite Gero GmbH & Co. KG
DTSTART;VALUE=DATE:20180501
DTEND;VALUE=DATE:20180504
SUMMARY:Ceramics
LOCATION:Booth 465 - Cleveland, OH - United States
END:VEVENT
END:VCALENDAR