BEGIN:VCALENDAR
VERSION:2.0
PRODID:-//hacksw/handcal//NONSGML v1.0//EN
BEGIN:VEVENT
UID:3372@carbolite
ORGANIZER:CN=Carbolite Gero GmbH & Co. KG
DTSTART;VALUE=DATE:20180423
DTEND;VALUE=DATE:20180427
SUMMARY:Rapid + TCT
LOCATION:Booth 530 - Fort Worth, TX - United States
END:VEVENT
END:VCALENDAR