BEGIN:VCALENDAR
VERSION:2.0
PRODID:-//hacksw/handcal//NONSGML v1.0//EN
BEGIN:VEVENT
UID:3368@carbolite
ORGANIZER:CN=Carbolite Gero GmbH & Co. KG
DTSTART;VALUE=DATE:20180306
DTEND;VALUE=DATE:20180309
SUMMARY:World of Asphalt
LOCATION:Booth 4039 - Houston, TX - United States
END:VEVENT
END:VCALENDAR