BEGIN:VCALENDAR
VERSION:2.0
PRODID:-//hacksw/handcal//NONSGML v1.0//EN
BEGIN:VEVENT
UID:3366@carbolite
ORGANIZER:CN=Carbolite Gero GmbH & Co. KG
DTSTART;VALUE=DATE:20180123
DTEND;VALUE=DATE:20180127
SUMMARY:World of Concrete
LOCATION:Booth N413 - Las Vegas, NV - United States
END:VEVENT
END:VCALENDAR