BEGIN:VCALENDAR
VERSION:2.0
PRODID:-//hacksw/handcal//NONSGML v1.0//EN
BEGIN:VEVENT
UID:3362@carbolite
ORGANIZER:CN=Carbolite Gero GmbH & Co. KG
DTSTART;VALUE=DATE:20181004

SUMMARY:STFC Daresbury Lab
LOCATION:Warrington - United Kingdom
END:VEVENT
END:VCALENDAR