BEGIN:VCALENDAR
VERSION:2.0
PRODID:-//hacksw/handcal//NONSGML v1.0//EN
BEGIN:VEVENT
UID:3358@carbolite
ORGANIZER:CN=Carbolite Gero GmbH & Co. KG
DTSTART;VALUE=DATE:20180524

SUMMARY:Stanlow Oil Refinery
LOCATION:Ellesmere Port - United Kingdom
END:VEVENT
END:VCALENDAR