BEGIN:VCALENDAR
VERSION:2.0
PRODID:-//hacksw/handcal//NONSGML v1.0//EN
BEGIN:VEVENT
UID:3356@carbolite
ORGANIZER:CN=Carbolite Gero GmbH & Co. KG
DTSTART;VALUE=DATE:20180503

SUMMARY:STFC Rutherford Appleton Lab
LOCATION:Harwell - United Kingdom
END:VEVENT
END:VCALENDAR