BEGIN:VCALENDAR
VERSION:2.0
PRODID:-//hacksw/handcal//NONSGML v1.0//EN
BEGIN:VEVENT
UID:4824@carbolite
ORGANIZER:CN=Carbolite Gero GmbH & Co. KG
DTSTART;VALUE=DATE:20240806
DTEND;VALUE=DATE:20240709
SUMMARY:EUROINVENT – European Exhibition of Creativity and 
LOCATION:Hall Palatul Culturii Iași - Iasi - Romania
END:VEVENT
END:VCALENDAR