BEGIN:VCALENDAR
VERSION:2.0
PRODID:-//hacksw/handcal//NONSGML v1.0//EN
BEGIN:VEVENT
UID:4815@carbolite
ORGANIZER:CN=Carbolite Gero GmbH & Co. KG
DTSTART;VALUE=DATE:20240605
DTEND;VALUE=DATE:20240607
SUMMARY:FENAGRA 2024
LOCATION:Booth I18 - São Paulo, SP - Brazil
END:VEVENT
END:VCALENDAR