BEGIN:VCALENDAR
VERSION:2.0
PRODID:-//hacksw/handcal//NONSGML v1.0//EN
BEGIN:VEVENT
UID:4737@carbolite
ORGANIZER:CN=Carbolite Gero GmbH & Co. KG
DTSTART;VALUE=DATE:20241008
DTEND;VALUE=DATE:20241010
SUMMARY:MS&T
LOCATION:Pittsburgh, PA - United States
END:VEVENT
END:VCALENDAR