BEGIN:VCALENDAR
VERSION:2.0
PRODID:-//hacksw/handcal//NONSGML v1.0//EN
BEGIN:VEVENT
UID:4735@carbolite
ORGANIZER:CN=Carbolite Gero GmbH & Co. KG
DTSTART;VALUE=DATE:20240715
DTEND;VALUE=DATE:20240718
SUMMARY:IFT
LOCATION:Booth S4705 - Chicago, IL - United States
END:VEVENT
END:VCALENDAR