BEGIN:VCALENDAR
VERSION:2.0
PRODID:-//hacksw/handcal//NONSGML v1.0//EN
BEGIN:VEVENT
UID:4701@carbolite
ORGANIZER:CN=Carbolite Gero GmbH & Co. KG
DTSTART;VALUE=DATE:20240306
DTEND;VALUE=DATE:20240309
SUMMARY:Mecspe
LOCATION:Bologna - Italy
END:VEVENT
END:VCALENDAR