BEGIN:VCALENDAR
VERSION:2.0
PRODID:-//hacksw/handcal//NONSGML v1.0//EN
BEGIN:VEVENT
UID:4693@carbolite
ORGANIZER:CN=Carbolite Gero GmbH & Co. KG
DTSTART;VALUE=DATE:20240327
DTEND;VALUE=DATE:20240329
SUMMARY:FORUM LABO
LOCATION:Booth F14 - Lyon  - France
END:VEVENT
END:VCALENDAR