BEGIN:VCALENDAR
VERSION:2.0
PRODID:-//hacksw/handcal//NONSGML v1.0//EN
BEGIN:VEVENT
UID:4636@carbolite
ORGANIZER:CN=Carbolite Gero GmbH & Co. KG
DTSTART;VALUE=DATE:20230619
DTEND;VALUE=DATE:20230624
SUMMARY:International Symposium on Inorganic and Environmental Materials
LOCATION:Montpellier - France
END:VEVENT
END:VCALENDAR