BEGIN:VCALENDAR
VERSION:2.0
PRODID:-//hacksw/handcal//NONSGML v1.0//EN
BEGIN:VEVENT
UID:4613@carbolite
ORGANIZER:CN=Carbolite Gero GmbH & Co. KG
DTSTART;VALUE=DATE:20230601
DTEND;VALUE=DATE:20230604
SUMMARY:CIHTE Heat Treatment
LOCATION:Hall 3B - Booth A17-A19 - Beijing - China
END:VEVENT
END:VCALENDAR