BEGIN:VCALENDAR
VERSION:2.0
PRODID:-//hacksw/handcal//NONSGML v1.0//EN
BEGIN:VEVENT
UID:4611@carbolite
ORGANIZER:CN=Carbolite Gero GmbH & Co. KG
DTSTART;VALUE=DATE:20230417
DTEND;VALUE=DATE:20230421
SUMMARY:China Plas
LOCATION:Booth 10Y73 - Shenzhen - China
END:VEVENT
END:VCALENDAR