BEGIN:VCALENDAR
VERSION:2.0
PRODID:-//hacksw/handcal//NONSGML v1.0//EN
BEGIN:VEVENT
UID:4455@carbolite
ORGANIZER:CN=Carbolite Gero GmbH & Co. KG
DTSTART;VALUE=DATE:20230628
DTEND;VALUE=DATE:20230630
SUMMARY:The Advanced Materials Show
LOCATION:Hall NEC - Booth 1214 - Birmingham - United Kingdom
END:VEVENT
END:VCALENDAR