BEGIN:VCALENDAR
VERSION:2.0
PRODID:-//hacksw/handcal//NONSGML v1.0//EN
BEGIN:VEVENT
UID:4447@carbolite
ORGANIZER:CN=Carbolite Gero GmbH & Co. KG
DTSTART;VALUE=DATE:20220526
DTEND;VALUE=DATE:20220528
SUMMARY:27° Convegno Nazionale Trattamenti Termici
LOCATION:Booth #30 - Genoa - Italy
END:VEVENT
END:VCALENDAR