BEGIN:VCALENDAR
VERSION:2.0
PRODID:-//hacksw/handcal//NONSGML v1.0//EN
BEGIN:VEVENT
UID:4433@carbolite
ORGANIZER:CN=Carbolite Gero GmbH & Co. KG
DTSTART;VALUE=DATE:20220629
DTEND;VALUE=DATE:20220701
SUMMARY:The Advanced Materials Show
LOCATION:Hall NEC - Booth 18-332 - Birmingham - United Kingdom
END:VEVENT
END:VCALENDAR