BEGIN:VCALENDAR
VERSION:2.0
PRODID:-//hacksw/handcal//NONSGML v1.0//EN
BEGIN:VEVENT
UID:4401@carbolite
ORGANIZER:CN=Carbolite Gero GmbH & Co. KG
DTSTART;VALUE=DATE:20220202
DTEND;VALUE=DATE:20220205
SUMMARY:Cannabis Science West
LOCATION:Booth #228 - Long Beach, CA - United States
END:VEVENT
END:VCALENDAR