BEGIN:VCALENDAR
VERSION:2.0
PRODID:-//hacksw/handcal//NONSGML v1.0//EN
BEGIN:VEVENT
UID:4382@carbolite
ORGANIZER:CN=Carbolite Gero GmbH & Co. KG
DTSTART;VALUE=DATE:20220822
DTEND;VALUE=DATE:20220828
SUMMARY:Metallography Skills Competition of National College Students
LOCATION:Zhengzhou - China
END:VEVENT
END:VCALENDAR