BEGIN:VCALENDAR
VERSION:2.0
PRODID:-//hacksw/handcal//NONSGML v1.0//EN
BEGIN:VEVENT
UID:4373@carbolite
ORGANIZER:CN=Carbolite Gero GmbH & Co. KG
DTSTART;VALUE=DATE:20220325
DTEND;VALUE=DATE:20220328
SUMMARY:Int. Additive Manufacturing Expo
LOCATION:Chanba - China
END:VEVENT
END:VCALENDAR