BEGIN:VCALENDAR
VERSION:2.0
PRODID:-//hacksw/handcal//NONSGML v1.0//EN
BEGIN:VEVENT
UID:4002@carbolite
ORGANIZER:CN=Carbolite Gero GmbH & Co. KG
DTSTART;VALUE=DATE:20200317
DTEND;VALUE=DATE:20200320
SUMMARY:EuroLab
LOCATION:Booth A5 - Warsaw - Poland
END:VEVENT
END:VCALENDAR