BEGIN:VCALENDAR
VERSION:2.0
PRODID:-//hacksw/handcal//NONSGML v1.0//EN
BEGIN:VEVENT
UID:3998@carbolite
ORGANIZER:CN=Carbolite Gero GmbH & Co. KG
DTSTART;VALUE=DATE:20200324
DTEND;VALUE=DATE:20200327
SUMMARY:Int'l Exhibition for Powder Metallurgy
LOCATION:Booth A 043 - Shanghai - China
END:VEVENT
END:VCALENDAR