BEGIN:VCALENDAR
VERSION:2.0
PRODID:-//hacksw/handcal//NONSGML v1.0//EN
BEGIN:VEVENT
UID:3995@carbolite
ORGANIZER:CN=Carbolite Gero GmbH & Co. KG
DTSTART;VALUE=DATE:20200326
DTEND;VALUE=DATE:20191229
SUMMARY:MECSPE
LOCATION:Parma - Italy
END:VEVENT
END:VCALENDAR