BEGIN:VCALENDAR
VERSION:2.0
PRODID:-//hacksw/handcal//NONSGML v1.0//EN
BEGIN:VEVENT
UID:3957@carbolite
ORGANIZER:CN=Carbolite Gero GmbH & Co. KG
DTSTART;VALUE=DATE:20200322
DTEND;VALUE=DATE:20200327
SUMMARY:AM Users Group Conference
LOCATION:Chicago, IL - United States
END:VEVENT
END:VCALENDAR