BEGIN:VCALENDAR
VERSION:2.0
PRODID:-//hacksw/handcal//NONSGML v1.0//EN
BEGIN:VEVENT
UID:3953@carbolite
ORGANIZER:CN=Carbolite Gero GmbH & Co. KG
DTSTART;VALUE=DATE:20191203
DTEND;VALUE=DATE:20191205
SUMMARY:Aerospace Additive Manufacturing Summit
LOCATION:Toulouse - France
END:VEVENT
END:VCALENDAR