BEGIN:VCALENDAR
VERSION:2.0
PRODID:-//hacksw/handcal//NONSGML v1.0//EN
BEGIN:VEVENT
UID:3882@carbolite
ORGANIZER:CN=Carbolite Gero GmbH & Co. KG
DTSTART;VALUE=DATE:20190616
DTEND;VALUE=DATE:20190621
SUMMARY:European Ceramic Conference
LOCATION:Turin - Italy
END:VEVENT
END:VCALENDAR