BEGIN:VCALENDAR
VERSION:2.0
PRODID:-//hacksw/handcal//NONSGML v1.0//EN
BEGIN:VEVENT
UID:3760@carbolite
ORGANIZER:CN=Carbolite Gero GmbH & Co. KG
DTSTART;VALUE=DATE:20191013
DTEND;VALUE=DATE:20191017
SUMMARY:EuroPM
LOCATION:Booth 60/63/65 - Maastricht - Netherlands
END:VEVENT
END:VCALENDAR