BEGIN:VCALENDAR
VERSION:2.0
PRODID:-//hacksw/handcal//NONSGML v1.0//EN
BEGIN:VEVENT
UID:3753@carbolite
ORGANIZER:CN=Carbolite Gero GmbH & Co. KG
DTSTART;VALUE=DATE:20190430
DTEND;VALUE=DATE:20190502
SUMMARY:Ceramics Expo
LOCATION:Booth 154 - Cleveland, OH - United States
END:VEVENT
END:VCALENDAR