BEGIN:VCALENDAR
VERSION:2.0
PRODID:-//hacksw/handcal//NONSGML v1.0//EN
BEGIN:VEVENT
UID:3749@carbolite
ORGANIZER:CN=Carbolite Gero GmbH & Co. KG
DTSTART;VALUE=DATE:20190225
DTEND;VALUE=DATE:20190228
SUMMARY:International Conference on Injection Molding
LOCATION:Lake Buena Vista, FL - United States
END:VEVENT
END:VCALENDAR