BEGIN:VCALENDAR
VERSION:2.0
PRODID:-//hacksw/handcal//NONSGML v1.0//EN
BEGIN:VEVENT
UID:3743@carbolite
ORGANIZER:CN=Carbolite Gero GmbH & Co. KG
DTSTART;VALUE=DATE:20190604
DTEND;VALUE=DATE:20190607
SUMMARY:3D Print
LOCATION:Lyon - France
END:VEVENT
END:VCALENDAR