BEGIN:VCALENDAR
VERSION:2.0
PRODID:-//hacksw/handcal//NONSGML v1.0//EN
BEGIN:VEVENT
UID:3742@carbolite
ORGANIZER:CN=Carbolite Gero GmbH & Co. KG
DTSTART;VALUE=DATE:20190326
DTEND;VALUE=DATE:20190329
SUMMARY:Forum Labo
LOCATION:Booth A2 - Paris - France
END:VEVENT
END:VCALENDAR