BEGIN:VCALENDAR
VERSION:2.0
PRODID:-//hacksw/handcal//NONSGML v1.0//EN
BEGIN:VEVENT
UID:3741@carbolite
ORGANIZER:CN=Carbolite Gero GmbH & Co. KG
DTSTART;VALUE=DATE:20191022
DTEND;VALUE=DATE:20191025
SUMMARY:Testing & Control
LOCATION:Moscow - Russia
END:VEVENT
END:VCALENDAR