BEGIN:VCALENDAR
VERSION:2.0
PRODID:-//hacksw/handcal//NONSGML v1.0//EN
BEGIN:VEVENT
UID:3739@carbolite
ORGANIZER:CN=Carbolite Gero GmbH & Co. KG
DTSTART;VALUE=DATE:20190916
DTEND;VALUE=DATE:20190921
SUMMARY:Precious Metals & Minerals Exhibition
LOCATION:Krasnoyarsk - Russia
END:VEVENT
END:VCALENDAR