BEGIN:VCALENDAR
VERSION:2.0
PRODID:-//hacksw/handcal//NONSGML v1.0//EN
BEGIN:VEVENT
UID:3717@carbolite
ORGANIZER:CN=Carbolite Gero GmbH & Co. KG
DTSTART;VALUE=DATE:20190319
DTEND;VALUE=DATE:20190322
SUMMARY:Pittcon
LOCATION:Booth #2611 - Philadelphia, PA - United States
END:VEVENT
END:VCALENDAR