BEGIN:VCALENDAR
VERSION:2.0
PRODID:-//hacksw/handcal//NONSGML v1.0//EN
BEGIN:VEVENT
UID:3654@carbolite
ORGANIZER:CN=Carbolite Gero GmbH & Co. KG
DTSTART;VALUE=DATE:20190312
DTEND;VALUE=DATE:20190315
SUMMARY:ArabLab 2019
LOCATION:Booth # 520 - Dubai Convention & Exhibition Centre - United Arab Emirates
END:VEVENT
END:VCALENDAR