BEGIN:VCALENDAR
VERSION:2.0
PRODID:-//hacksw/handcal//NONSGML v1.0//EN
BEGIN:VEVENT
UID:3594@carbolite
ORGANIZER:CN=Carbolite Gero GmbH & Co. KG
DTSTART;VALUE=DATE:20181113
DTEND;VALUE=DATE:20181117
SUMMARY:formnext
LOCATION:Hall 3.0 - Booth D02 - Frankfurt - Germany
END:VEVENT
END:VCALENDAR