BEGIN:VCALENDAR
VERSION:2.0
PRODID:-//hacksw/handcal//NONSGML v1.0//EN
BEGIN:VEVENT
UID:3531@carbolite
ORGANIZER:CN=Carbolite Gero GmbH & Co. KG
DTSTART;VALUE=DATE:20181106
DTEND;VALUE=DATE:20181109
SUMMARY:MetCoke World Summit
LOCATION:Pittsburgh, PA - United States
END:VEVENT
END:VCALENDAR