BEGIN:VCALENDAR
VERSION:2.0
PRODID:-//hacksw/handcal//NONSGML v1.0//EN
BEGIN:VEVENT
UID:3529@carbolite
ORGANIZER:CN=Carbolite Gero GmbH & Co. KG
DTSTART;VALUE=DATE:20181007
DTEND;VALUE=DATE:20181011
SUMMARY:Titanium
LOCATION:Las Vegas, NV - United States
END:VEVENT
END:VCALENDAR