BEGIN:VCALENDAR
VERSION:2.0
PRODID:-//hacksw/handcal//NONSGML v1.0//EN
BEGIN:VEVENT
UID:3444@carbolite
ORGANIZER:CN=Carbolite Gero GmbH & Co. KG
DTSTART;VALUE=DATE:20181119
DTEND;VALUE=DATE:20181124
SUMMARY:Matériaux
LOCATION:Strasbourg - France
END:VEVENT
END:VCALENDAR