BEGIN:VCALENDAR
VERSION:2.0
PRODID:-//hacksw/handcal//NONSGML v1.0//EN
BEGIN:VEVENT
UID:3428@carbolite
ORGANIZER:CN=Carbolite Gero GmbH & Co. KG
DTSTART;VALUE=DATE:20180516
DTEND;VALUE=DATE:20180518
SUMMARY:African Construction - Totally Concrete
LOCATION:Johannesburg - South Africa
END:VEVENT
END:VCALENDAR