BEGIN:VCALENDAR
VERSION:2.0
PRODID:-//hacksw/handcal//NONSGML v1.0//EN
BEGIN:VEVENT
UID:3417@carbolite
ORGANIZER:CN=Carbolite Gero GmbH & Co. KG
DTSTART;VALUE=DATE:20180424
DTEND;VALUE=DATE:20180427
SUMMARY:Analitika
LOCATION:Moscow - Russia
END:VEVENT
END:VCALENDAR