BEGIN:VCALENDAR
VERSION:2.0
PRODID:-//hacksw/handcal//NONSGML v1.0//EN
BEGIN:VEVENT
UID:3414@carbolite
ORGANIZER:CN=Carbolite Gero GmbH & Co. KG
DTSTART;VALUE=DATE:20181002
DTEND;VALUE=DATE:20181006
SUMMARY:WOTS
LOCATION:Utrecht - Netherlands
END:VEVENT
END:VCALENDAR