BEGIN:VCALENDAR
VERSION:2.0
PRODID:-//hacksw/handcal//NONSGML v1.0//EN
BEGIN:VEVENT
UID:3381@carbolite
ORGANIZER:CN=Carbolite Gero GmbH & Co. KG
DTSTART;VALUE=DATE:20181128
DTEND;VALUE=DATE:20181201
SUMMARY:POWTEX
LOCATION:Tokyo - Japan
END:VEVENT
END:VCALENDAR