BEGIN:VCALENDAR
VERSION:2.0
PRODID:-//hacksw/handcal//NONSGML v1.0//EN
BEGIN:VEVENT
UID:3377@carbolite
ORGANIZER:CN=Carbolite Gero GmbH & Co. KG
DTSTART;VALUE=DATE:20181014
DTEND;VALUE=DATE:20181019
SUMMARY:MS&T
LOCATION:Booth 537 - Columbus, OH - United States
END:VEVENT
END:VCALENDAR