BEGIN:VCALENDAR
VERSION:2.0
PRODID:-//hacksw/handcal//NONSGML v1.0//EN
BEGIN:VEVENT
UID:3375@carbolite
ORGANIZER:CN=Carbolite Gero GmbH & Co. KG
DTSTART;VALUE=DATE:20180617
DTEND;VALUE=DATE:20180621
SUMMARY:Powdermet
LOCATION:Booth 622/624 - San Antonio, TX - United States
END:VEVENT
END:VCALENDAR