BEGIN:VCALENDAR
VERSION:2.0
PRODID:-//hacksw/handcal//NONSGML v1.0//EN
BEGIN:VEVENT
UID:3374@carbolite
ORGANIZER:CN=Carbolite Gero GmbH & Co. KG
DTSTART;VALUE=DATE:20180507
DTEND;VALUE=DATE:20180511
SUMMARY:AIST Metal Workshop
LOCATION:Booth 3312 - Philadelphia, PA - United States
END:VEVENT
END:VCALENDAR