BEGIN:VCALENDAR
VERSION:2.0
PRODID:-//hacksw/handcal//NONSGML v1.0//EN
BEGIN:VEVENT
UID:3360@carbolite
ORGANIZER:CN=Carbolite Gero GmbH & Co. KG
DTSTART;VALUE=DATE:20180712

SUMMARY:BAE Submarines
LOCATION:Barrow - United Kingdom
END:VEVENT
END:VCALENDAR