BEGIN:VCALENDAR
VERSION:2.0
PRODID:-//hacksw/handcal//NONSGML v1.0//EN
BEGIN:VEVENT
UID:3353@carbolite
ORGANIZER:CN=Carbolite Gero GmbH & Co. KG
DTSTART;VALUE=DATE:20180409
DTEND;VALUE=DATE:20180414
SUMMARY:MACH
LOCATION:Hall 6 - Booth 748 - Birmingham - United Kingdom
END:VEVENT
END:VCALENDAR